BEGIN:VCALENDAR
VERSION:2.0
PRODID:-//Leduc Santa&#039;s Helpers - ECPv6.15.20//NONSGML v1.0//EN
CALSCALE:GREGORIAN
METHOD:PUBLISH
X-WR-CALNAME:Leduc Santa&#039;s Helpers
X-ORIGINAL-URL:https://leducsantashelpers.ca
X-WR-CALDESC:Events for Leduc Santa&#039;s Helpers
REFRESH-INTERVAL;VALUE=DURATION:PT1H
X-Robots-Tag:noindex
X-PUBLISHED-TTL:PT1H
BEGIN:VTIMEZONE
TZID:America/Edmonton
BEGIN:DAYLIGHT
TZOFFSETFROM:-0700
TZOFFSETTO:-0600
TZNAME:MDT
DTSTART:20220313T090000
END:DAYLIGHT
BEGIN:STANDARD
TZOFFSETFROM:-0600
TZOFFSETTO:-0700
TZNAME:MST
DTSTART:20221106T080000
END:STANDARD
BEGIN:DAYLIGHT
TZOFFSETFROM:-0700
TZOFFSETTO:-0600
TZNAME:MDT
DTSTART:20230312T090000
END:DAYLIGHT
BEGIN:STANDARD
TZOFFSETFROM:-0600
TZOFFSETTO:-0700
TZNAME:MST
DTSTART:20231105T080000
END:STANDARD
BEGIN:DAYLIGHT
TZOFFSETFROM:-0700
TZOFFSETTO:-0600
TZNAME:MDT
DTSTART:20240310T090000
END:DAYLIGHT
BEGIN:STANDARD
TZOFFSETFROM:-0600
TZOFFSETTO:-0700
TZNAME:MST
DTSTART:20241103T080000
END:STANDARD
END:VTIMEZONE
BEGIN:VEVENT
DTSTART;TZID=America/Edmonton:20230729T100000
DTEND;TZID=America/Edmonton:20230729T130000
DTSTAMP:20260420T065329
CREATED:20231025T221323Z
LAST-MODIFIED:20231025T221323Z
UID:2895-1690624800-1690635600@leducsantashelpers.ca
SUMMARY:Summer in the City
DESCRIPTION:
URL:https://leducsantashelpers.ca/event/summer-in-the-city/
LOCATION:Alexandra Park\, 50th St\, Leduc\, Alberta\, T9E 4Z6\, Canada
END:VEVENT
BEGIN:VEVENT
DTSTART;TZID=America/Edmonton:20230617T120000
DTEND;TZID=America/Edmonton:20230617T140000
DTSTAMP:20260420T065329
CREATED:20231025T221139Z
LAST-MODIFIED:20231025T221139Z
UID:2892-1687003200-1687010400@leducsantashelpers.ca
SUMMARY:Good Neighbor BBQ
DESCRIPTION:
URL:https://leducsantashelpers.ca/event/good-neighbor-bbq/
LOCATION:Linsford Gardens Park\, 5209 45 Ave\, Leduc\, Alberta\, T9E 5B1\, Canada
END:VEVENT
END:VCALENDAR